BEGIN:VCALENDAR
VERSION:2.0
METHOD:PUBLISH
BEGIN:VEVENT
UID:WILD_APRICOT_EVENT_2356311_SESSION_1
DTSTART:20161206T090000Z
DTEND:20161206T110000Z
SUMMARY:Annual Christmas Meeting
LOCATION:Black Rock Yacht Club
DESCRIPTION:https://www.rangeroverclub.org.au/event-2356311\n\nOur annual Christmas Meeting\n  \n\n  ATTENTION - NEW LOCATION - Black Rock Yacht Club\n  \n\n  All members asked to bring along a plate of food to share and drinks will be provided by the club.\n\n
DTSTAMP:20200228T212724Z
END:VEVENT
END:VCALENDAR
