BEGIN:VCALENDAR
VERSION:2.0
METHOD:PUBLISH
BEGIN:VEVENT
UID:WILD_APRICOT_EVENT_2356309_SESSION_1
DTSTART:20161108T090000Z
DTEND:20161108T110000Z
SUMMARY:Monthly Meeting
LOCATION:East Malvern RSL
DESCRIPTION:https://www.rangeroverclub.org.au/event-2356309\n\nThe regular monthly members meeting\n
DTSTAMP:20200228T212735Z
END:VEVENT
END:VCALENDAR
