BEGIN:VCALENDAR
VERSION:2.0
METHOD:PUBLISH
BEGIN:VEVENT
UID:WILD_APRICOT_EVENT_2356284_SESSION_1
DTSTART:20161021T220000Z
DTEND:20161023T050000Z
SUMMARY:Bush Mechanics Workshop
LOCATION:Black Spur Inn\, 436 Maroondah Hwy\, Narbethong VIC 3778
DESCRIPTION:https://www.rangeroverclub.org.au/event-2356284\n\nA Bush Mechanics' workshop will be run over two days athe Jim Kennedy's workshop at the Black Spur Inn and it is a must for long distance travel.\n  Why not make it a social weekend and stay at the Black Spur Inn on the Saturday night. To book accommodation please call 03) 59637121.\n  Mechanical breakdown is part of 4 Wheel Driving! A broken spring and a busted shock absorber during the last 2 Simpson trips. A snapped trailing arm in a Hilux (albeit the car belongs to another club convoy) in last year's Butcher country trip. Leaking radiator\, rang out of spare tyres\, broken CV joints and the list goes on.......\n  Do you have a get out of jail card? Do you know what to do to get you back to civilization? If you want to know more about these things\, this is the trip for you!\n  This trip is an extension of the very successful basic mecahnic weekend course that Jim already runs.\n  There will be theory and practical demonstration on a variety of minor and major bush repairs which may include:\n  1. What tools to carry on a short and extended trip?\n  2. What spare parts to carry a short and extended trip?\n  3. Minor Bush repairs such as:\n  1. Tyre\n  2. Leaks e.g. from radiators\, cooling systems\, fuel tanks\, axles\, hoses\,\n  3. Water in engine\n  4. Busted shockers\n  5. Dead electrics\n  6. Busted windscreens\n  7. Damaged exhaust\n  4. Major bush repairs and “get out of jail card”\n  \n\n     Search templates (CTRL+Space)                   New Template         Search templates (CTRL+Space)                   New Template    
DTSTAMP:20200228T212825Z
END:VEVENT
END:VCALENDAR
